{"text_format":"3","workbook":"xlsx","n_sheets":8,"sheets":["Dashboard","NLP.js","Watson","LUIS","Botfuel","Recast","RASA","DialogFlow"],"not_rendered":{"charts":1},"read":"whole","date_system":"1900"}

{"sheet":"Dashboard","index":0,"n_rows":9,"n_cols":6,"rows_kept":9}
[]
[null,"NLP Platform","Chatbot","Ask Ubuntu","Web Applications","Overall"]
[null,"NLP.js",{"$f":"NLP.js!H18","v":0.9905660377358491},{"$f":"NLP.js!H19","v":0.9444444444444444},{"$f":"NLP.js!H20","v":0.7966101694915254},{"$f":"NLP.js!H17","v":0.9304029304029304}]
[null,"Watson",{"$f":"Watson!H18","v":0.9716981132075472},{"$f":"Watson!H19","v":0.9174311926605505},{"$f":"Watson!H20","v":0.8305084745762712},{"$f":"Watson!H17","v":0.9197080291970803}]
[null,"LUIS",{"$f":"LUIS!H18","v":0.9811320754716981},{"$f":"LUIS!H19","v":0.8990825688073395},{"$f":"LUIS!H20","v":0.8135593220338985},{"$f":"LUIS!H17","v":0.9124087591240876}]
[null,"Botfuel",{"$f":"Botfuel!H18","v":0.9811320754716981},{"$f":"Botfuel!H19","v":0.8940092165898618},{"$f":"Botfuel!H20","v":0.7966101694915254},{"$f":"Botfuel!H17","v":0.906764168190128}]
[null,"Recast",{"$f":"Recast!H18","v":0.9905660377358491},{"$f":"Recast!H19","v":0.8623853211009176},{"$f":"Recast!H20","v":0.7457627118644068},{"$f":"Recast!H17","v":0.8868613138686131}]
[null,"RASA",{"$f":"RASA!H18","v":0.9811320754716981},{"$f":"RASA!H19","v":0.8623853211009176},{"$f":"RASA!H20","v":0.7457627118644068},{"$f":"RASA!H17","v":0.8832116788321168}]
[null,"DialogFlow",{"$f":"DialogFlow!H18","v":0.926829268292683},{"$f":"DialogFlow!H19","v":0.8532110091743119},{"$f":"DialogFlow!H20","v":0.8034188034188032},{"$f":"DialogFlow!H17","v":0.8703703703703705}]

{"sheet":"NLP.js","index":1,"n_rows":20,"n_cols":8,"rows_kept":20}
["Column1","intent","true +","false -","false +","precision","recall","f1"]
["chatbot","FindConnection",70,0,1,{"$f":"C2/(C2+E2)","v":0.9859154929577465},{"$f":"C2/(C2+D2)","v":1},{"$f":"2*(F2*G2)/(F2+G2)","v":0.9929078014184397}]
["chatbot","DepartureTime",35,1,0,{"$f":"C3/(C3+E3)","v":1},{"$f":"C3/(C3+D3)","v":0.9722222222222222},{"$f":"2*(F3*G3)/(F3+G3)","v":0.9859154929577464}]
["askUbuntu","Software Recommendation",35,1,4,{"$f":"C4/(C4+E4)","v":0.8974358974358975},{"$f":"C4/(C4+D4)","v":0.9722222222222222},{"$f":"2*(F4*G4)/(F4+G4)","v":0.9333333333333333}]
["askUbuntu","None",3,1,2,0.6,0.75,0.6666666666666665]
["askUbuntu","Shutdown Computer",14,2,0,1,0.875,0.9333333333333333]
["askUbuntu","Make Update",37,2,0,1,0.9487179487179487,0.9736842105263158]
["askUbuntu","Setup Printer",13,0,0,1,1,1]
["webApp","Find Alternative",16,3,0,1,0.8421052631578947,0.9142857142857143]
["webApp","Delete Account",9,4,1,0.9,0.6923076923076923,0.7826086956521738]
["webApp","Export Data",2,3,1,0.6666666666666666,0.4,0.5]
["webApp","Sync Accounts",4,0,2,0.6666666666666666,1,0.8]
["webApp","None",0,0,4,0]
["webApp","Change Password",3,0,3,0.5,1,0.6666666666666666]
["webApp","Filter Spam",13,1,1,0.9285714285714286,0.9285714285714286,0.9285714285714286]
["webApp","Download Video",0,1,0,null,0]
["Total",null,{"$f":"SUM(C2:C16)","v":254},{"$f":"SUM(D2:D16)","v":19},{"$f":"SUM(E2:E16)","v":19},0.9304029304029304,0.9304029304029304,0.9304029304029304]
["Total Chatbot",null,{"$f":"C2+C3","v":105},{"$f":"D2+D3","v":1},{"$f":"E2+E3","v":1},0.9905660377358491,0.9905660377358491,0.9905660377358491]
["Total askUbuntu",null,{"$f":"SUM(C4:C8)","v":102},{"$f":"SUM(D4:D8)","v":6},{"$f":"SUM(E4:E8)","v":6},0.9444444444444444,0.9444444444444444,0.9444444444444444]
["Total webApp",null,{"$f":"SUM(C9:C16)","v":47},{"$f":"SUM(D9:D16)","v":12},{"$f":"SUM(E9:E16)","v":12},0.7966101694915254,0.7966101694915254,0.7966101694915254]

{"sheet":"Watson","index":2,"n_rows":20,"n_cols":8,"rows_kept":20}
["Column1","intent","true +","false -","false +","precision","recall","f1"]
["chatbot","FindConnection",70,1,2,{"$f":"C2/(C2+E2)","v":0.9722222222222222},{"$f":"C2/(C2+D2)","v":0.9859154929577465},{"$f":"2*(F2*G2)/(F2+G2)","v":0.979020979020979}]
["chatbot","DepartureTime",33,2,1,{"$f":"C3/(C3+E3)","v":0.9705882352941176},{"$f":"C3/(C3+D3)","v":0.9428571428571428},{"$f":"2*(F3*G3)/(F3+G3)","v":0.9565217391304348}]
["askUbuntu","Software Recommendation",35,5,3,{"$f":"C4/(C4+E4)","v":0.9210526315789473},{"$f":"C4/(C4+D4)","v":0.875},{"$f":"2*(F4*G4)/(F4+G4)","v":0.8974358974358975}]
["askUbuntu","None",1,4,1,0.5,0.2,0.28571428571428575]
["askUbuntu","Shutdown Computer",14,0,0,1,1,1]
["askUbuntu","Make Update",37,0,4,0.9024390243902439,1,0.9487179487179488]
["askUbuntu","Setup Printer",13,0,1,0.9285714285714286,1,0.962962962962963]
["webApp","Find Alternative",15,1,1,0.9375,0.9375,0.9375]
["webApp","Delete Account",9,1,3,0.75,0.9,0.8181818181818182]
["webApp","Export Data",2,1,2,0.5,0.6666666666666666,0.5714285714285715]
["webApp","Sync Accounts",5,1,0,1,0.8333333333333334,0.9090909090909091]
["webApp","None",0,4,1,0,0]
["webApp","Change Password",5,1,0,1,0.8333333333333334,0.9090909090909091]
["webApp","Filter Spam",13,1,2,0.8666666666666667,0.9285714285714286,0.896551724137931]
["webApp","Download Video",0,0,1,0]
["Total",null,{"$f":"SUM(C2:C16)","v":252},{"$f":"SUM(D2:D16)","v":22},{"$f":"SUM(E2:E16)","v":22},0.9197080291970803,0.9197080291970803,0.9197080291970803]
["Total Chatbot",null,{"$f":"C2+C3","v":103},{"$f":"D2+D3","v":3},{"$f":"E2+E3","v":3},0.9716981132075472,0.9716981132075472,0.9716981132075472]
["Total askUbuntu",null,{"$f":"SUM(C4:C8)","v":100},{"$f":"SUM(D4:D8)","v":9},{"$f":"SUM(E4:E8)","v":9},0.9174311926605505,0.9174311926605505,0.9174311926605505]
["Total webApp",null,{"$f":"SUM(C9:C16)","v":49},{"$f":"SUM(D9:D16)","v":10},{"$f":"SUM(E9:E16)","v":10},0.8305084745762712,0.8305084745762712,0.8305084745762712]

{"sheet":"LUIS","index":3,"n_rows":20,"n_cols":8,"rows_kept":20}
["Column1","intent","true +","false -","false +","precision","recall","f1"]
["chatbot","FindConnection",70,1,1,{"$f":"C2/(C2+E2)","v":0.9859154929577465},{"$f":"C2/(C2+D2)","v":0.9859154929577465},{"$f":"2*(F2*G2)/(F2+G2)","v":0.9859154929577465}]
["chatbot","DepartureTime",34,1,1,{"$f":"C3/(C3+E3)","v":0.9714285714285714},{"$f":"C3/(C3+D3)","v":0.9714285714285714},{"$f":"2*(F3*G3)/(F3+G3)","v":0.9714285714285714}]
["askUbuntu","Software Recommendation",36,4,5,0.8780487804878049,0.9,0.888888888888889]
["askUbuntu","None",0,5,0,null,0]
["askUbuntu","Shutdown Computer",14,0,0,1,1,1]
["askUbuntu","Make Update",36,1,4,0.9,0.972972972972973,0.935064935064935]
["askUbuntu","Setup Printer",12,1,2,0.8571428571428571,0.9230769230769231,0.888888888888889]
["webApp","Find Alternative",14,2,2,0.875,0.875,0.875]
["webApp","Delete Account",8,2,0,1,0.8,0.888888888888889]
["webApp","Export Data",3,0,1,0.75,1,0.8571428571428571]
["webApp","Sync Accounts",5,1,0,1,0.8333333333333334,0.9090909090909091]
["webApp","None",3,1,8,0.2727272727272727,0.75,0.39999999999999997]
["webApp","Change Password",3,3,0,1,0.5,0.6666666666666666]
["webApp","Filter Spam",12,2,0,1,0.8571428571428571,0.923076923076923]
["webApp","Download Video",0,0,0]
["Total",null,{"$f":"SUM(C2:C16)","v":250},{"$f":"SUM(D2:D16)","v":24},{"$f":"SUM(E2:E16)","v":24},{"$f":"C17/(C17+E17)","v":0.9124087591240876},{"$f":"C17/(C17+D17)","v":0.9124087591240876},{"$f":"2*(F17*G17)/(F17+G17)","v":0.9124087591240876}]
["Total Chatbot",null,{"$f":"C2+C3","v":104},{"$f":"D2+D3","v":2},{"$f":"E2+E3","v":2},0.9811320754716981,0.9811320754716981,0.9811320754716981]
["Total askUbuntu",null,{"$f":"SUM(C4:C8)","v":98},{"$f":"SUM(D4:D8)","v":11},{"$f":"SUM(E4:E8)","v":11},0.8990825688073395,0.8990825688073395,0.8990825688073395]
["Total webApp",null,{"$f":"SUM(C9:C16)","v":48},{"$f":"SUM(D9:D16)","v":11},{"$f":"SUM(E9:E16)","v":11},0.8135593220338984,0.8135593220338984,0.8135593220338985]

{"sheet":"Botfuel","index":4,"n_rows":20,"n_cols":8,"rows_kept":20}
["Column1","intent","true +","false -","false +","precision","recall","f1"]
["chatbot","FindConnection",69,2,0,{"$f":"C2/(C2+E2)","v":1},{"$f":"C2/(C2+D2)","v":0.971830985915493},{"$f":"2*(F2*G2)/(F2+G2)","v":0.9857142857142858}]
["chatbot","DepartureTime",35,0,2,{"$f":"C3/(C3+E3)","v":0.9459459459459459},{"$f":"C3/(C3+D3)","v":1},{"$f":"2*(F3*G3)/(F3+G3)","v":0.9722222222222222}]
["askUbuntu","Software Recommendation",33,7,1,0.9705882352941176,0.825,0.8918918918918919]
["askUbuntu","None",1,4,0,1,0.2,0.33333333333333337]
["askUbuntu","Shutdown Computer",14,0,2,0.875,1,0.9333333333333333]
["askUbuntu","Make Update",37,0,6,0.8604651162790697,1,0.9249999999999999]
["askUbuntu","Setup Printer",12,1,2,0.8571428571428571,0.9230769230769231,0.888888888888889]
["webApp","Find Alternative",16,0,4,0.8,1,0.888888888888889]
["webApp","Delete Account",9,1,3,0.75,0.9,0.8181818181818182]
["webApp","Export Data",2,1,2,0.5,0.6666666666666666,0.5714285714285715]
["webApp","Sync Accounts",4,2,0,1,0.6666666666666666,0.8]
["webApp","None",0,4,0,null,0]
["webApp","Change Password",4,2,1,0.8,0.6666666666666666,0.7272727272727272]
["webApp","Filter Spam",12,2,1,0.9230769230769231,0.8571428571428571,0.888888888888889]
["webApp","Download Video",0,0,1,0]
["Total",null,{"$f":"SUM(C2:C16)","v":248},{"$f":"SUM(D2:D16)","v":26},{"$f":"SUM(E2:E16)","v":25},{"$f":"C17/(C17+E17)","v":0.9084249084249084},{"$f":"C17/(C17+D17)","v":0.9051094890510949},{"$f":"2*(F17*G17)/(F17+G17)","v":0.906764168190128}]
["Total Chatbot",null,{"$f":"C2+C3","v":104},{"$f":"D2+D3","v":2},{"$f":"E2+E3","v":2},0.9811320754716981,0.9811320754716981,0.9811320754716981]
["Total askUbuntu",null,{"$f":"SUM(C4:C8)","v":97},{"$f":"SUM(D4:D8)","v":12},{"$f":"SUM(E4:E8)","v":11},0.8981481481481481,0.8899082568807339,0.8940092165898618]
["Total webApp",null,{"$f":"SUM(C9:C16)","v":47},{"$f":"SUM(D9:D16)","v":12},{"$f":"SUM(E9:E16)","v":12},0.7966101694915254,0.7966101694915254,0.7966101694915254]

{"sheet":"Recast","index":5,"n_rows":20,"n_cols":8,"rows_kept":20}
["Column1","intent","true +","false -","false +","precision","recall","f1"]
["chatbot","FindConnection",70,1,0,{"$f":"C2/(C2+E2)","v":1},{"$f":"C2/(C2+D2)","v":0.9859154929577465},{"$f":"2*(F2*G2)/(F2+G2)","v":0.9929078014184397}]
["chatbot","DepartureTime",35,0,1,{"$f":"C3/(C3+E3)","v":0.9722222222222222},{"$f":"C3/(C3+D3)","v":1},{"$f":"2*(F3*G3)/(F3+G3)","v":0.9859154929577464}]
["askUbuntu","Software Recommendation",29,11,1,0.9666666666666667,0.725,0.8285714285714285]
["askUbuntu","None",1,4,0,1,0.2,0.33333333333333337]
["askUbuntu","Shutdown Computer",14,0,6,0.7,1,0.8235294117647058]
["askUbuntu","Make Update",37,0,7,0.8409090909090909,1,0.9135802469135803]
["askUbuntu","Setup Printer",13,0,1,0.9285714285714286,1,0.962962962962963]
["webApp","Find Alternative",15,1,3,0.8333333333333334,0.9375,0.8823529411764706]
["webApp","Delete Account",9,1,5,0.6428571428571429,0.9,0.75]
["webApp","Export Data",2,1,4,0.3333333333333333,0.6666666666666666,0.4444444444444444]
["webApp","Sync Accounts",3,3,0,1,0.5,0.6666666666666666]
["webApp","None",1,3,1,null,0.25]
["webApp","Change Password",4,2,1,0.8,0.6666666666666666,0.7272727272727272]
["webApp","Filter Spam",10,4,1,0.9090909090909091,0.7142857142857143,0.8]
["webApp","Download Video",0,0,0]
["Total",null,{"$f":"SUM(C2:C16)","v":243},{"$f":"SUM(D2:D16)","v":31},{"$f":"SUM(E2:E16)","v":31},0.8868613138686131,{"$f":"C17/(C17+D17)","v":0.8868613138686131},{"$f":"2*(F17*G17)/(F17+G17)","v":0.8868613138686131}]
["Total Chatbot",null,{"$f":"C2+C3","v":105},{"$f":"D2+D3","v":1},{"$f":"E2+E3","v":1},0.9905660377358491,0.9905660377358491,0.9905660377358491]
["Total askUbuntu",null,{"$f":"SUM(C4:C8)","v":94},{"$f":"SUM(D4:D8)","v":15},{"$f":"SUM(E4:E8)","v":15},0.8623853211009175,0.8623853211009175,0.8623853211009176]
["Total webApp",null,{"$f":"SUM(C9:C16)","v":44},{"$f":"SUM(D9:D16)","v":15},{"$f":"SUM(E9:E16)","v":15},0.7457627118644068,0.7457627118644068,0.7457627118644068]

{"sheet":"RASA","index":6,"n_rows":20,"n_cols":8,"rows_kept":20}
["Column1","intent","true +","false -","false +","precision","recall","f1"]
["chatbot","FindConnection",70,1,1,{"$f":"C2/(C2+E2)","v":0.9859154929577465},{"$f":"C2/(C2+D2)","v":0.9859154929577465},{"$f":"2*(F2*G2)/(F2+G2)","v":0.9859154929577465}]
["chatbot","DepartureTime",34,1,1,{"$f":"C3/(C3+E3)","v":0.9714285714285714},{"$f":"C3/(C3+D3)","v":0.9714285714285714},{"$f":"2*(F3*G3)/(F3+G3)","v":0.9714285714285714}]
["askUbuntu","Software Recommendation",33,7,4,{"$f":"C4/(C4+E4)","v":0.8918918918918919},{"$f":"C4/(C4+D4)","v":0.825},{"$f":"2*(F4*G4)/(F4+G4)","v":0.8571428571428571}]
["askUbuntu","None",0,5,1,0,0]
["askUbuntu","Shutdown Computer",14,0,6,0.7,1,0.8235294117647058]
["askUbuntu","Make Update",34,3,2,0.9444444444444444,0.918918918918919,0.9315068493150684]
["askUbuntu","Setup Printer",13,0,2,0.8666666666666667,1,0.9285714285714286]
["webApp","Find Alternative",15,1,8,0.6521739130434783,0.9375,0.7692307692307693]
["webApp","Delete Account",9,1,5,0.6428571428571429,0.9,0.75]
["webApp","Export Data",0,3,0,null,0]
["webApp","Sync Accounts",3,3,0,1,0.5,0.6666666666666666]
["webApp","None",0,4,1,0,0]
["webApp","Change Password",4,2,0,1,0.6666666666666666,0.8]
["webApp","Filter Spam",13,1,0,1,0.9285714285714286,0.962962962962963]
["webApp","Download Video",0,0,1,0]
["Total",null,{"$f":"SUM(C2:C16)","v":242},{"$f":"SUM(D2:D16)","v":32},{"$f":"SUM(E2:E16)","v":32},0.8832116788321168,0.8832116788321168,0.8832116788321168]
["Total Chatbot",null,{"$f":"C2+C3","v":104},{"$f":"D2+D3","v":2},{"$f":"E2+E3","v":2},0.9811320754716981,0.9811320754716981,0.9811320754716981]
["Total askUbuntu",null,{"$f":"SUM(C4:C8)","v":94},{"$f":"SUM(D4:D8)","v":15},{"$f":"SUM(E4:E8)","v":15},0.8623853211009175,0.8623853211009175,0.8623853211009176]
["Total webApp",null,{"$f":"SUM(C9:C16)","v":44},{"$f":"SUM(D9:D16)","v":15},{"$f":"SUM(E9:E16)","v":15},0.7457627118644068,0.7457627118644068,0.7457627118644068]

{"sheet":"DialogFlow","index":7,"n_rows":20,"n_cols":8,"rows_kept":20}
["Column1","intent","true +","false -","false +","precision","recall","f1"]
["chatbot","FindConnection",60,11,0,{"$f":"C2/(C2+E2)","v":1},{"$f":"C2/(C2+D2)","v":0.8450704225352113},{"$f":"2*(F2*G2)/(F2+G2)","v":0.916030534351145}]
["chatbot","DepartureTime",35,0,4,{"$f":"C3/(C3+E3)","v":0.8974358974358975},{"$f":"C3/(C3+D3)","v":1},{"$f":"2*(F3*G3)/(F3+G3)","v":0.945945945945946}]
["askUbuntu","Software Recommendation",28,12,2,0.9333333333333333,0.7,0.8]
["askUbuntu","None",2,3,8,0.2,0.4,0.26666666666666666]
["askUbuntu","Shutdown Computer",14,0,2,0.875,1,0.9333333333333333]
["askUbuntu","Make Update",36,1,3,0.9230769230769231,0.972972972972973,0.9473684210526315]
["askUbuntu","Setup Printer",13,0,1,0.9285714285714286,1,0.962962962962963]
["webApp","Find Alternative",16,0,2,0.8888888888888888,1,0.9411764705882353]
["webApp","Delete Account",10,0,2,0.8333333333333334,1,0.9090909090909091]
["webApp","Export Data",1,2,2,0.3333333333333333,0.3333333333333333,0.3333333333333333]
["webApp","Sync Accounts",4,2,0,1,0.6666666666666666,0.8]
["webApp","None",2,2,1,0.6666666666666666,0.5,0.5714285714285715]
["webApp","Change Password",4,2,1,0.8,0.6666666666666666,0.7272727272727272]
["webApp","Filter Spam",10,4,3,0.7692307692307693,0.7142857142857143,0.7407407407407408]
["webApp","Download Video",0,0,0]
["Total",null,{"$f":"SUM(C2:C16)","v":235},{"$f":"SUM(D2:D16)","v":39},{"$f":"SUM(E2:E16)","v":31},0.8834586466165414,0.8576642335766423,0.8703703703703705]
["Total Chatbot",null,{"$f":"C2+C3","v":95},{"$f":"D2+D3","v":11},{"$f":"E2+E3","v":4},0.9595959595959596,0.8962264150943396,0.926829268292683]
["Total askUbuntu",null,{"$f":"SUM(C4:C8)","v":93},{"$f":"SUM(D4:D8)","v":16},{"$f":"SUM(E4:E8)","v":16},0.8532110091743119,0.8532110091743119,0.8532110091743119]
["Total webApp",null,{"$f":"SUM(C9:C16)","v":47},{"$f":"SUM(D9:D16)","v":12},{"$f":"SUM(E9:E16)","v":11},0.8103448275862069,0.7966101694915254,0.8034188034188032]