Workbook
Name cellAbove: Workplan!A1048576
Name Enter: Config!$Q$5
Name MinimumDate: Config!$Q$4
Name ObjectiveNames: OFFSET(Config!$H$3,1,0,MAX(1,COUNTA(Config!$G:$G)-COUNTA(Config!$G$1:$G$3)),1)
Name RegionNames: OFFSET(Config!$E$3,1,0,MAX(1,COUNTA(Config!$D:$D)-COUNTA(Config!$D$1:$D$3)),1)
Name ScorecardId: Config!$Q$7
Name ScorecardName: Config!$Q$6
Name UserNames: OFFSET(Config!$B$3,1,0,MAX(1,COUNTA(Config!$A:$A)-COUNTA(Config!$A$1:$A$3)),1)
Name Workplan_Action: Workplan!$F$3
Name Workplan_Category: Workplan!$G$3
Name Workplan_CommunityEngagement: Workplan!$N$3
Name Workplan_CustomColumn1: Workplan!$O$3
Name Workplan_CustomColumn2: Workplan!$P$3
Name Workplan_Deadline: Workplan!$I$3
Name Workplan_Deliverable: Workplan!$E$3
Name Workplan_ErrorBlankRowAbove: Config!$N$9
Name Workplan_ErrorCheck: Workplan!$W$3
Name Workplan_ErrorDeadlineBeforeStart: Config!$N$7
Name Workplan_ErrorMissingField: Config!$N$6
Name Workplan_ErrorRowBlank: Config!$N$8
Name Workplan_HasError: Workplan!$V$3
Name Workplan_Id: Workplan!$A$3
Name Workplan_NoError: Config!$N$5
Name Workplan_Objective: Workplan!$D$3
Name Workplan_Owner: Workplan!$L$3
Name Workplan_Partner: Workplan!$M$3
Name Workplan_Region: Workplan!$B$3
Name Workplan_RegionId: Workplan!$Q$3
Name Workplan_ResponsibleUserId: Workplan!$R$3
Name Workplan_StartDate: Workplan!$H$3
Name Workplan_Status: Workplan!$J$3
Name Workplan_StatusAchieved: Config!$J$4
Name Workplan_StatusExplanation: Workplan!$K$3
Name Workplan_StatusId: Workplan!$S$3
Name Workplan_StatusNoProgress: Config!$J$6
Name Workplan_StatusNotDueYet: Config!$J$7
Name Workplan_StatusSomeProgress: Config!$J$5
Name Workplan_Title: Config!$N$4
Name WorkplanId: Config!$Q$8

Sheet Config
A1: Users | D1: Region | G1: Objectives | J1: Status | M1: Translations | P1: Parameters
A3: Id | B3: Name | D3: Id | E3: Name | G3: Id | H3: Name | J3: Name | K3: Key | M3: Id | N3: Translation | P3: Name | Q3: Value
A4: 3 | B4: Demo Admin | D4: 17238 | E4: Country Demo | G4: 42 | H4: To train 12 tots by 11.02.2019 | J4: Action achieved | K4: green | M4: Title | N4: Action items for {scorecard} | P4: Minimum date: | Q4: 44562
A5: 15 | B5: Samson Katikiti | D5: 17239 | E5: Region A | G5: 43 | H5: To increase IPTp uptake among pregnant women | J5: Some progress | K5: yellow | M5: NoError | N5: No error. | P5: Enter
A6: 18 | B6: Melanie Renshaw | D6: 18670 | E6: District 1 | G6: 44 | H6: 100% of pregnant women receive treatment | J6: No progress | K6: red | M6: ErrorMissingField | N6: Please provide a (valid) {fieldName}! | P6: ScorecardName | Q6: ScorecardName
A7: 19 | B7: Stephen Rooke | D7: 18959 | E7: CS 1 | G7: 45 | H7: 100% of confirmed cases receive treatment | J7: Not yet due | K7: grey | M7: ErrorDeadlineBeforeStart | N7: Deadline must be after start date. | P7: ScorecardId | Q7: 603
A8: 28 | B8: Developer account | D8: 18673 | E8: District 2 | G8: 50 | H8: 80 % of structures sprayed with IRS | M8: ErrorRowBlank | N8: Row is blank | P8: WorkplanId | Q8: 4
A9: 32 | B9: Charles Paluku | D9: 19744 | E9: Facility 2 | G9: 112 | H9: Conduct a Penta 3 campaign with over 95% coverage | M9: ErrorBlankRowAbove | N9: Blank line above not allowed.
A10: 110 | B10: Matthew Wilson | D10: 20076 | E10: District 1
A11: 154 | B11: Foluke Olusegun | D11: 20077 | E11: District X
A12: 5215 | B12: Elizabeth Katwan | D12: 20078 | E12: Health Facility Y
A13: 11120 | B13: d2i Admin | D13: 17240 | E13: Region B
A14: 11170 | B14: Anne Gasasira | D14: 18671 | E14: District 3
A15: 11297 | B15: Ashneil Jain | D15: 19745 | E15: Facility 3 | I15: {=OFFSET(Config!$H$3,1,0,MAX(1,COUNTA(Config!$G:$G)-COUNTA(Config!$G$1:$G$3)),1)} -> To train 12 tots by 11.02.2019
A16: 11298 | B16: Abraham Mnzava | D16: 19746 | E16: Facility 4
A17: 11299 | B17: Diego Duque | D17: 18674 | E17: District 4
A18: 11340 | B18: NMCP | D18: 19747 | E18: Facility 5
A19: 11341 | B19: Ketema Bizuneh | D19: 19748 | E19: Facility 6
A20: 11507 | B20: Irenee Umulisa | D20: 17241 | E20: Region C
A21: 11566 | B21: Corine Karema | D21: 18672 | E21: District 5
A22: 11622 | B22: develappers | D22: 19749 | E22: Factiliy 7
A23: 11623 | B23: ilenia | D23: 19750 | E23: Facility 8
A24: 11683 | B24: Peter Trapp (d2i) | D24: 18675 | E24: District 6
A25: 11684 | B25: jesus (d2i) | D25: 19751 | E25: Facility 9
A26: 11686 | B26: Johan | D26: 20074 | E26: District B
A27: 11687 | B27: Thomas Davies | D27: 20075 | E27: Health Facility 1
... A44: 11790 | B44: billp | D44: 19758 | E44: Facility 16

Sheet Workplan
B1: =SUBSTITUTE(Workplan_Title,"{scorecard}",ScorecardName) -> Action items for ScorecardName
A3: Id | B3: Region | D3: Objective | E3: Deliverable | F3: Activity | G3: Category | H3: Start date | I3: Deadline | J3: Status | K3: Status explanation | L3: Owner | M3: Partner | N3: Community Engagement | O3: Custom column 1 | P3: Custom column 2 | Q3: RegionId | R3: Responsible | S3: StatusId | V3: HasError | W3: Error check
A4: Id | B4: Region | C4: Is deliverable | D4: Objective | E4: Deliverable | F4: Action | G4: Category | H4: Start date | I4: Deadline | J4: Status | K4: Status explanation | L4: Owner | M4: Partner | N4: Community engagement | O4: Custom column 1 | P4: Custom column 2 | Q4: RegionId | R4: ResponsibleUserId | S4: StatusId | T4: ObjectiveId | U4: DeliverableId | V4: HasError | W4: Error check
A5: 5111 | B5: Country Demo | C5: =Workplan!F5:F5="" -> TRUE | D5: To train 12 tots by 11.02.2019 | E5: Procure enablers and starter kits (updated) | G5: iCCM | H5: 43466 | I5: 43524 | J5: Not yet due | K5: activity will commence on 11.02.2019 | L5: Zambia Training | M5: PAMO | N5: TRUE | Q5: =INDEX(Config!D4:D44,MATCH(Workplan!B5:B5,Config!E4:E44,0)) -> 17238 | R5: =INDEX(Config!A4:A44,MATCH(Workplan!L5:L5,Config!B4:B44,0)) -> 11560 | S5: =INDEX(Config!K4:K7,MATCH(Workplan!J5:J5,Config!J4:J7,0)) -> grey | T5: =INDEX(Config!G4:G9,MATCH(Workplan!D5:D5,Config!H4:H9,0)) -> 42 | U5: =IF(Workplan!C5:C5,"",INDEX(Workplan!A5:A14,MATCH(Workplan!E5:E5,Workplan!E5:E14,0))) | V5: =(Workplan!W5:W5<>Workplan_NoError)*1 -> 0 | W5: =IF(COUNTA(Workplan!B5:L5)=0,Workplan_ErrorRowBlank,IF(cellAbove=Workplan_ErrorRowBlank,Workplan_ErrorBlankRowAbove,SUBSTITUTE(SUBSTITUTE(IF(ISERROR(Workplan!Q5:Q5),SUBSTITUTE(Workplan_ErrorMissingField,"{fieldName}",LOWER(Workplan_Region))&Enter,0)&IF(AND(Workplan!F5:F5="",NOT(Workplan!C5:C5)),SUBSTITUTE(Workplan_ErrorMissingField,"{fieldName}",LOWER(Workplan_Action))&Enter,0)&IF(OR(Workplan!E5:E5="",ISNA(Workplan!U5:U5)),SUBSTITUTE(Workplan_ErrorMissingField,"{fieldName}",LOWER(Workplan_Deliverable))&Enter,0)&IF(OR(Workplan!L5:L5="",ISNA(Workplan!R5:R5)),SUBSTITUTE(Workplan_ErrorMissingField,"{fieldName}",LOWER(Workplan_Owner))&Enter,0)&IF(OR(Workplan!J5:J5="",ISNA(Workplan!S5:S5)),SUBSTITUTE(Workplan_ErrorMissingField,"{fieldName}",LOWER(Workplan_Status))&Enter,0)&IF(OR(Workplan!D5:D5="",ISNA(Workplan!D5:D5)),SUBSTITUTE(Workplan_ErrorMissingField,"{fieldName}",LOWER(Workplan_Objective))&Enter,0)&IF(Workplan!I5:I5="",SUBSTITUTE(Workplan_ErrorMissingField,"{fieldName}",LOWER(Workplan_Deadline))&Enter,0),"00000",Workplan_NoError),"0",""))) -> No error.
A6: 5113 | B6: Country Demo | C6: =Workplan!F6:F6="" -> TRUE | D6: To increase IPTp uptake among pregnant women | E6: Draft the funding request to MACEPA for restocking 1000 units of SP for facilities XYZ | H6: 43497 | I6: 43585 | J6: Not yet due | K6: Procured 800 units | L6: Zambia Training | M6: MACEPA | N6: TRUE | Q6: =INDEX(Config!D4:D44,MATCH(Workplan!B6:B6,Config!E4:E44,0)) -> 17238 | R6: =INDEX(Config!A4:A44,MATCH(Workplan!L6:L6,Config!B4:B44,0)) -> 11560 | S6: =INDEX(Config!K4:K7,MATCH(Workplan!J6:J6,Config!J4:J7,0)) -> grey | T6: =INDEX(Config!G4:G9,MATCH(Workplan!D6:D6,Config!H4:H9,0)) -> 43 | U6: =IF(Workplan!C6:C6,"",INDEX(Workplan!A5:A14,MATCH(Workplan!E6:E6,Workplan!E5:E14,0))) | V6: =(Workplan!W6:W6<>Workplan_NoError)*1 -> 0 | W6: =IF(COUNTA(Workplan!B6:L6)=0,Workplan_ErrorRowBlank,IF(cellAbove=Workplan_ErrorRowBlank,Workplan_ErrorBlankRowAbove,SUBSTITUTE(SUBSTITUTE(IF(ISERROR(Workplan!Q6:Q6),SUBSTITUTE(Workplan_ErrorMissingField,"{fieldName}",LOWER(Workplan_Region))&Enter,0)&IF(AND(Workplan!F6:F6="",NOT(Workplan!C6:C6)),SUBSTITUTE(Workplan_ErrorMissingField,"{fieldName}",LOWER(Workplan_Action))&Enter,0)&IF(OR(Workplan!E6:E6="",ISNA(Workplan!U6:U6)),SUBSTITUTE(Workplan_ErrorMissingField,"{fieldName}",LOWER(Workplan_Deliverable))&Enter,0)&IF(OR(Workplan!L6:L6="",ISNA(Workplan!R6:R6)),SUBSTITUTE(Workplan_ErrorMissingField,"{fieldName}",LOWER(Workplan_Owner))&Enter,0)&IF(OR(Workplan!J6:J6="",ISNA(Workplan!S6:S6)),SUBSTITUTE(Workplan_ErrorMissingField,"{fieldName}",LOWER(Workplan_Status))&Enter,0)&IF(OR(Workplan!D6:D6="",ISNA(Workplan!D6:D6)),SUBSTITUTE(Workplan_ErrorMissingField,"{fieldName}",LOWER(Workplan_Objective))&Enter,0)&IF(Workplan!I6:I6="",SUBSTITUTE(Workplan_ErrorMissingField,"{fieldName}",LOWER(Workplan_Deadline))&Enter,0),"00000",Workplan_NoError),"0",""))) -> No error.
A7: 8996 | B7: Country Demo | C7: =Workplan!F7:F7="" -> FALSE | D7: To increase IPTp uptake among pregnant women | E7: Draft the funding request to MACEPA for restocking 1000 units of SP for facilities XYZ | F7: Draft the funding request to MACEPA for restocking 1000 units of SP for facilities XYZ | I7: 44866 | J7: Not yet due | L7: Abraham Mnzava | N7: FALSE | Q7: =INDEX(Config!D4:D44,MATCH(Workplan!B7:B7,Config!E4:E44,0)) -> 17238 | R7: =INDEX(Config!A4:A44,MATCH(Workplan!L7:L7,Config!B4:B44,0)) -> 11298 | S7: =INDEX(Config!K4:K7,MATCH(Workplan!J7:J7,Config!J4:J7,0)) -> grey | T7: =INDEX(Config!G4:G9,MATCH(Workplan!D7:D7,Config!H4:H9,0)) -> 43 | U7: =IF(Workplan!C7:C7,"",INDEX(Workplan!A5:A14,MATCH(Workplan!E7:E7,Workplan!E5:E14,0))) -> 5113 | V7: =(Workplan!W7:W7<>Workplan_NoError)*1 -> 0 | W7: =IF(COUNTA(Workplan!B7:L7)=0,Workplan_ErrorRowBlank,IF(cellAbove=Workplan_ErrorRowBlank,Workplan_ErrorBlankRowAbove,SUBSTITUTE(SUBSTITUTE(IF(ISERROR(Workplan!Q7:Q7),SUBSTITUTE(Workplan_ErrorMissingField,"{fieldName}",LOWER(Workplan_Region))&Enter,0)&IF(AND(Workplan!F7:F7="",NOT(Workplan!C7:C7)),SUBSTITUTE(Workplan_ErrorMissingField,"{fieldName}",LOWER(Workplan_Action))&Enter,0)&IF(OR(Workplan!E7:E7="",ISNA(Workplan!U7:U7)),SUBSTITUTE(Workplan_ErrorMissingField,"{fieldName}",LOWER(Workplan_Deliverable))&Enter,0)&IF(OR(Workplan!L7:L7="",ISNA(Workplan!R7:R7)),SUBSTITUTE(Workplan_ErrorMissingField,"{fieldName}",LOWER(Workplan_Owner))&Enter,0)&IF(OR(Workplan!J7:J7="",ISNA(Workplan!S7:S7)),SUBSTITUTE(Workplan_ErrorMissingField,"{fieldName}",LOWER(Workplan_Status))&Enter,0)&IF(OR(Workplan!D7:D7="",ISNA(Workplan!D7:D7)),SUBSTITUTE(Workplan_ErrorMissingField,"{fieldName}",LOWER(Workplan_Objective))&Enter,0)&IF(Workplan!I7:I7="",SUBSTITUTE(Workplan_ErrorMissingField,"{fieldName}",LOWER(Workplan_Deadline))&Enter,0),"00000",Workplan_NoError),"0",""))) -> No error.
A8: 8997 | B8: Country Demo | C8: =Workplan!F8:F8="" -> TRUE | D8: To increase IPTp uptake among pregnant women | I8: 44867 | J8: Not yet due | L8: Abraham Mnzava | N8: FALSE | Q8: =INDEX(Config!D4:D44,MATCH(Workplan!B8:B8,Config!E4:E44,0)) -> 17238 | R8: =INDEX(Config!A4:A44,MATCH(Workplan!L8:L8,Config!B4:B44,0)) -> 11298 | S8: =INDEX(Config!K4:K7,MATCH(Workplan!J8:J8,Config!J4:J7,0)) -> grey | T8: =INDEX(Config!G4:G9,MATCH(Workplan!D8:D8,Config!H4:H9,0)) -> 43 | U8: =IF(Workplan!C8:C8,"",INDEX(Workplan!A5:A14,MATCH(Workplan!E8:E8,Workplan!E5:E14,0))) | V8: =(Workplan!W8:W8<>Workplan_NoError)*1 -> 1 | W8: =IF(COUNTA(Workplan!B8:L8)=0,Workplan_ErrorRowBlank,IF(cellAbove=Workplan_ErrorRowBlank,Workplan_ErrorBlankRowAbove,SUBSTITUTE(SUBSTITUTE(IF(ISERROR(Workplan!Q8:Q8),SUBSTITUTE(Workplan_ErrorMissingField,"{fieldName}",LOWER(Workplan_Region))&Enter,0)&IF(AND(Workplan!F8:F8="",NOT(Workplan!C8:C8)),SUBSTITUTE(Workplan_ErrorMissingField,"{fieldName}",LOWER(Workplan_Action))&Enter,0)&IF(OR(Workplan!E8:E8="",ISNA(Workplan!U8:U8)),SUBSTITUTE(Workplan_ErrorMissingField,"{fieldName}",LOWER(Workplan_Deliverable))&Enter,0)&IF(OR(Workplan!L8:L8="",ISNA(Workplan!R8:R8)),SUBSTITUTE(Workplan_ErrorMissingField,"{fieldName}",LOWER(Workplan_Owner))&Enter,0)&IF(OR(Workplan!J8:J8="",ISNA(Workplan!S8:S8)),SUBSTITUTE(Workplan_ErrorMissingField,"{fieldName}",LOWER(Workplan_Status))&Enter,0)&IF(OR(Workplan!D8:D8="",ISNA(Workplan!D8:D8)),SUBSTITUTE(Workplan_ErrorMissingField,"{fieldName}",LOWER(Workplan_Objective))&Enter,0)&IF(Workplan!I8:I8="",SUBSTITUTE(Workplan_ErrorMissingField,"{fieldName}",LOWER(Workplan_Deadline))&Enter,0),"00000",Workplan_NoError),"0",""))) -> Please provide a (valid) deliverable!
A9: 5116 | B9: Region A | C9: =Workplan!F9:F9="" -> TRUE | D9: 100% of pregnant women receive treatment | E9: Fully stock all health facilities within region A | G9: treatment | H9: 43497 | I9: 43572 | J9: Not yet due | L9: Demo Francais | M9: Freddy | N9: FALSE | Q9: =INDEX(Config!D4:D44,MATCH(Workplan!B9:B9,Config!E4:E44,0)) -> 17239 | R9: =INDEX(Config!A4:A44,MATCH(Workplan!L9:L9,Config!B4:B44,0)) -> 11520 | S9: =INDEX(Config!K4:K7,MATCH(Workplan!J9:J9,Config!J4:J7,0)) -> grey | T9: =INDEX(Config!G4:G9,MATCH(Workplan!D9:D9,Config!H4:H9,0)) -> 44 | U9: =IF(Workplan!C9:C9,"",INDEX(Workplan!A5:A14,MATCH(Workplan!E9:E9,Workplan!E5:E14,0))) | V9: =(Workplan!W9:W9<>Workplan_NoError)*1 -> 0 | W9: =IF(COUNTA(Workplan!B9:L9)=0,Workplan_ErrorRowBlank,IF(cellAbove=Workplan_ErrorRowBlank,Workplan_ErrorBlankRowAbove,SUBSTITUTE(SUBSTITUTE(IF(ISERROR(Workplan!Q9:Q9),SUBSTITUTE(Workplan_ErrorMissingField,"{fieldName}",LOWER(Workplan_Region))&Enter,0)&IF(AND(Workplan!F9:F9="",NOT(Workplan!C9:C9)),SUBSTITUTE(Workplan_ErrorMissingField,"{fieldName}",LOWER(Workplan_Action))&Enter,0)&IF(OR(Workplan!E9:E9="",ISNA(Workplan!U9:U9)),SUBSTITUTE(Workplan_ErrorMissingField,"{fieldName}",LOWER(Workplan_Deliverable))&Enter,0)&IF(OR(Workplan!L9:L9="",ISNA(Workplan!R9:R9)),SUBSTITUTE(Workplan_ErrorMissingField,"{fieldName}",LOWER(Workplan_Owner))&Enter,0)&IF(OR(Workplan!J9:J9="",ISNA(Workplan!S9:S9)),SUBSTITUTE(Workplan_ErrorMissingField,"{fieldName}",LOWER(Workplan_Status))&Enter,0)&IF(OR(Workplan!D9:D9="",ISNA(Workplan!D9:D9)),SUBSTITUTE(Workplan_ErrorMissingField,"{fieldName}",LOWER(Workplan_Objective))&Enter,0)&IF(Workplan!I9:I9="",SUBSTITUTE(Workplan_ErrorMissingField,"{fieldName}",LOWER(Workplan_Deadline))&Enter,0),"00000",Workplan_NoError),"0",""))) -> No error.
A10: 5117 | B10: Region A | C10: =Workplan!F10:F10="" -> FALSE | D10: 100% of pregnant women receive treatment | E10: Fully stock all health facilities within region A | F10: Forecasting and quantification of all facilities within Region A | G10: Treatment | H10: 43497 | I10: 43524 | J10: Not yet due | L10: Demo Francais | M10: Freddy | N10: FALSE | Q10: =INDEX(Config!D4:D44,MATCH(Workplan!B10:B10,Config!E4:E44,0)) -> 17239 | R10: =INDEX(Config!A4:A44,MATCH(Workplan!L10:L10,Config!B4:B44,0)) -> 11520 | S10: =INDEX(Config!K4:K7,MATCH(Workplan!J10:J10,Config!J4:J7,0)) -> grey | T10: =INDEX(Config!G4:G9,MATCH(Workplan!D10:D10,Config!H4:H9,0)) -> 44 | U10: =IF(Workplan!C10:C10,"",INDEX(Workplan!A5:A14,MATCH(Workplan!E10:E10,Workplan!E5:E14,0))) -> 5116 | V10: =(Workplan!W10:W10<>Workplan_NoError)*1 -> 0 | W10: =IF(COUNTA(Workplan!B10:L10)=0,Workplan_ErrorRowBlank,IF(cellAbove=Workplan_ErrorRowBlank,Workplan_ErrorBlankRowAbove,SUBSTITUTE(SUBSTITUTE(IF(ISERROR(Workplan!Q10:Q10),SUBSTITUTE(Workplan_ErrorMissingField,"{fieldName}",LOWER(Workplan_Region))&Enter,0)&IF(AND(Workplan!F10:F10="",NOT(Workplan!C10:C10)),SUBSTITUTE(Workplan_ErrorMissingField,"{fieldName}",LOWER(Workplan_Action))&Enter,0)&IF(OR(Workplan!E10:E10="",ISNA(Workplan!U10:U10)),SUBSTITUTE(Workplan_ErrorMissingField,"{fieldName}",LOWER(Workplan_Deliverable))&Enter,0)&IF(OR(Workplan!L10:L10="",ISNA(Workplan!R10:R10)),SUBSTITUTE(Workplan_ErrorMissingField,"{fieldName}",LOWER(Workplan_Owner))&Enter,0)&IF(OR(Workplan!J10:J10="",ISNA(Workplan!S10:S10)),SUBSTITUTE(Workplan_ErrorMissingField,"{fieldName}",LOWER(Workplan_Status))&Enter,0)&IF(OR(Workplan!D10:D10="",ISNA(Workplan!D10:D10)),SUBSTITUTE(Workplan_ErrorMissingField,"{fieldName}",LOWER(Workplan_Objective))&Enter,0)&IF(Workplan!I10:I10="",SUBSTITUTE(Workplan_ErrorMissingField,"{fieldName}",LOWER(Workplan_Deadline))&Enter,0),"00000",Workplan_NoError),"0",""))) -> No error.
A11: 8998 | B11: Country Demo | C11: =Workplan!F11:F11="" -> FALSE | D11: 100% of pregnant women receive treatment | E11: Fully stock all health facilities within region A | F11: des | I11: 44868 | J11: Not yet due | L11: Abraham Mnzava | N11: FALSE | Q11: =INDEX(Config!D4:D44,MATCH(Workplan!B11:B11,Config!E4:E44,0)) -> 17238 | R11: =INDEX(Config!A4:A44,MATCH(Workplan!L11:L11,Config!B4:B44,0)) -> 11298 | S11: =INDEX(Config!K4:K7,MATCH(Workplan!J11:J11,Config!J4:J7,0)) -> grey | T11: =INDEX(Config!G4:G9,MATCH(Workplan!D11:D11,Config!H4:H9,0)) -> 44 | U11: =IF(Workplan!C11:C11,"",INDEX(Workplan!A5:A14,MATCH(Workplan!E11:E11,Workplan!E5:E14,0))) -> 5116 | V11: =(Workplan!W11:W11<>Workplan_NoError)*1 -> 0 | W11: =IF(COUNTA(Workplan!B11:L11)=0,Workplan_ErrorRowBlank,IF(cellAbove=Workplan_ErrorRowBlank,Workplan_ErrorBlankRowAbove,SUBSTITUTE(SUBSTITUTE(IF(ISERROR(Workplan!Q11:Q11),SUBSTITUTE(Workplan_ErrorMissingField,"{fieldName}",LOWER(Workplan_Region))&Enter,0)&IF(AND(Workplan!F11:F11="",NOT(Workplan!C11:C11)),SUBSTITUTE(Workplan_ErrorMissingField,"{fieldName}",LOWER(Workplan_Action))&Enter,0)&IF(OR(Workplan!E11:E11="",ISNA(Workplan!U11:U11)),SUBSTITUTE(Workplan_ErrorMissingField,"{fieldName}",LOWER(Workplan_Deliverable))&Enter,0)&IF(OR(Workplan!L11:L11="",ISNA(Workplan!R11:R11)),SUBSTITUTE(Workplan_ErrorMissingField,"{fieldName}",LOWER(Workplan_Owner))&Enter,0)&IF(OR(Workplan!J11:J11="",ISNA(Workplan!S11:S11)),SUBSTITUTE(Workplan_ErrorMissingField,"{fieldName}",LOWER(Workplan_Status))&Enter,0)&IF(OR(Workplan!D11:D11="",ISNA(Workplan!D11:D11)),SUBSTITUTE(Workplan_ErrorMissingField,"{fieldName}",LOWER(Workplan_Objective))&Enter,0)&IF(Workplan!I11:I11="",SUBSTITUTE(Workplan_ErrorMissingField,"{fieldName}",LOWER(Workplan_Deadline))&Enter,0),"00000",Workplan_NoError),"0",""))) -> No error.
A12: 5867 | B12: Country Demo | C12: =Workplan!F12:F12="" -> TRUE | D12: 100% of confirmed cases receive treatment | E12: Test | I12: 44663 | J12: Not yet due | L12: retreat 2020 | N12: FALSE | Q12: =INDEX(Config!D4:D44,MATCH(Workplan!B12:B12,Config!E4:E44,0)) -> 17238 | R12: =INDEX(Config!A4:A44,MATCH(Workplan!L12:L12,Config!B4:B44,0)) -> 11685 | S12: =INDEX(Config!K4:K7,MATCH(Workplan!J12:J12,Config!J4:J7,0)) -> grey | T12: =INDEX(Config!G4:G9,MATCH(Workplan!D12:D12,Config!H4:H9,0)) -> 45 | U12: =IF(Workplan!C12:C12,"",INDEX(Workplan!A5:A14,MATCH(Workplan!E12:E12,Workplan!E5:E14,0))) | V12: =(Workplan!W12:W12<>Workplan_NoError)*1 -> 0 | W12: =IF(COUNTA(Workplan!B12:L12)=0,Workplan_ErrorRowBlank,IF(cellAbove=Workplan_ErrorRowBlank,Workplan_ErrorBlankRowAbove,SUBSTITUTE(SUBSTITUTE(IF(ISERROR(Workplan!Q12:Q12),SUBSTITUTE(Workplan_ErrorMissingField,"{fieldName}",LOWER(Workplan_Region))&Enter,0)&IF(AND(Workplan!F12:F12="",NOT(Workplan!C12:C12)),SUBSTITUTE(Workplan_ErrorMissingField,"{fieldName}",LOWER(Workplan_Action))&Enter,0)&IF(OR(Workplan!E12:E12="",ISNA(Workplan!U12:U12)),SUBSTITUTE(Workplan_ErrorMissingField,"{fieldName}",LOWER(Workplan_Deliverable))&Enter,0)&IF(OR(Workplan!L12:L12="",ISNA(Workplan!R12:R12)),SUBSTITUTE(Workplan_ErrorMissingField,"{fieldName}",LOWER(Workplan_Owner))&Enter,0)&IF(OR(Workplan!J12:J12="",ISNA(Workplan!S12:S12)),SUBSTITUTE(Workplan_ErrorMissingField,"{fieldName}",LOWER(Workplan_Status))&Enter,0)&IF(OR(Workplan!D12:D12="",ISNA(Workplan!D12:D12)),SUBSTITUTE(Workplan_ErrorMissingField,"{fieldName}",LOWER(Workplan_Objective))&Enter,0)&IF(Workplan!I12:I12="",SUBSTITUTE(Workplan_ErrorMissingField,"{fieldName}",LOWER(Workplan_Deadline))&Enter,0),"00000",Workplan_NoError),"0",""))) -> No error.
A13: 5126 | B13: Region A | C13: =Workplan!F13:F13="" -> TRUE | D13: 80 % of structures sprayed with IRS | E13: Insecticide procurement | G13: IRS | H13: 43524 | I13: 43537 | J13: Not yet due | K13: The funding hasn't arrived yet | L13: Diego Duque | M13: CHAI | N13: TRUE | Q13: =INDEX(Config!D4:D44,MATCH(Workplan!B13:B13,Config!E4:E44,0)) -> 17239 | R13: =INDEX(Config!A4:A44,MATCH(Workplan!L13:L13,Config!B4:B44,0)) -> 11299 | S13: =INDEX(Config!K4:K7,MATCH(Workplan!J13:J13,Config!J4:J7,0)) -> grey | T13: =INDEX(Config!G4:G9,MATCH(Workplan!D13:D13,Config!H4:H9,0)) -> 50 | U13: =IF(Workplan!C13:C13,"",INDEX(Workplan!A5:A14,MATCH(Workplan!E13:E13,Workplan!E5:E14,0))) | V13: =(Workplan!W13:W13<>Workplan_NoError)*1 -> 0 | W13: =IF(COUNTA(Workplan!B13:L13)=0,Workplan_ErrorRowBlank,IF(cellAbove=Workplan_ErrorRowBlank,Workplan_ErrorBlankRowAbove,SUBSTITUTE(SUBSTITUTE(IF(ISERROR(Workplan!Q13:Q13),SUBSTITUTE(Workplan_ErrorMissingField,"{fieldName}",LOWER(Workplan_Region))&Enter,0)&IF(AND(Workplan!F13:F13="",NOT(Workplan!C13:C13)),SUBSTITUTE(Workplan_ErrorMissingField,"{fieldName}",LOWER(Workplan_Action))&Enter,0)&IF(OR(Workplan!E13:E13="",ISNA(Workplan!U13:U13)),SUBSTITUTE(Workplan_ErrorMissingField,"{fieldName}",LOWER(Workplan_Deliverable))&Enter,0)&IF(OR(Workplan!L13:L13="",ISNA(Workplan!R13:R13)),SUBSTITUTE(Workplan_ErrorMissingField,"{fieldName}",LOWER(Workplan_Owner))&Enter,0)&IF(OR(Workplan!J13:J13="",ISNA(Workplan!S13:S13)),SUBSTITUTE(Workplan_ErrorMissingField,"{fieldName}",LOWER(Workplan_Status))&Enter,0)&IF(OR(Workplan!D13:D13="",ISNA(Workplan!D13:D13)),SUBSTITUTE(Workplan_ErrorMissingField,"{fieldName}",LOWER(Workplan_Objective))&Enter,0)&IF(Workplan!I13:I13="",SUBSTITUTE(Workplan_ErrorMissingField,"{fieldName}",LOWER(Workplan_Deadline))&Enter,0),"00000",Workplan_NoError),"0",""))) -> No error.
A14: 5296 | B14: Country Demo | C14: =Workplan!F14:F14="" -> TRUE | D14: Conduct a Penta 3 campaign with over 95% coverage | E14: DEL | H14: 43599 | I14: 43608 | J14: Not yet due | L14: Zambia Training | M14: DEL | N14: FALSE | Q14: =INDEX(Config!D4:D44,MATCH(Workplan!B14:B14,Config!E4:E44,0)) -> 17238 | R14: =INDEX(Config!A4:A44,MATCH(Workplan!L14:L14,Config!B4:B44,0)) -> 11560 | S14: =INDEX(Config!K4:K7,MATCH(Workplan!J14:J14,Config!J4:J7,0)) -> grey | T14: =INDEX(Config!G4:G9,MATCH(Workplan!D14:D14,Config!H4:H9,0)) -> 112 | U14: =IF(Workplan!C14:C14,"",INDEX(Workplan!A5:A14,MATCH(Workplan!E14:E14,Workplan!E5:E14,0))) | V14: =(Workplan!W14:W14<>Workplan_NoError)*1 -> 0 | W14: =IF(COUNTA(Workplan!B14:L14)=0,Workplan_ErrorRowBlank,IF(cellAbove=Workplan_ErrorRowBlank,Workplan_ErrorBlankRowAbove,SUBSTITUTE(SUBSTITUTE(IF(ISERROR(Workplan!Q14:Q14),SUBSTITUTE(Workplan_ErrorMissingField,"{fieldName}",LOWER(Workplan_Region))&Enter,0)&IF(AND(Workplan!F14:F14="",NOT(Workplan!C14:C14)),SUBSTITUTE(Workplan_ErrorMissingField,"{fieldName}",LOWER(Workplan_Action))&Enter,0)&IF(OR(Workplan!E14:E14="",ISNA(Workplan!U14:U14)),SUBSTITUTE(Workplan_ErrorMissingField,"{fieldName}",LOWER(Workplan_Deliverable))&Enter,0)&IF(OR(Workplan!L14:L14="",ISNA(Workplan!R14:R14)),SUBSTITUTE(Workplan_ErrorMissingField,"{fieldName}",LOWER(Workplan_Owner))&Enter,0)&IF(OR(Workplan!J14:J14="",ISNA(Workplan!S14:S14)),SUBSTITUTE(Workplan_ErrorMissingField,"{fieldName}",LOWER(Workplan_Status))&Enter,0)&IF(OR(Workplan!D14:D14="",ISNA(Workplan!D14:D14)),SUBSTITUTE(Workplan_ErrorMissingField,"{fieldName}",LOWER(Workplan_Objective))&Enter,0)&IF(Workplan!I14:I14="",SUBSTITUTE(Workplan_ErrorMissingField,"{fieldName}",LOWER(Workplan_Deadline))&Enter,0),"00000",Workplan_NoError),"0",""))) -> No error.
